BEGIN:VCALENDAR
VERSION:2.0
PRODID:-//ILSE ECKERT - ATEM - BEWEGUNG - ECPv6.2.6//NONSGML v1.0//EN
CALSCALE:GREGORIAN
METHOD:PUBLISH
X-WR-CALNAME:ILSE ECKERT - ATEM - BEWEGUNG
X-ORIGINAL-URL:https://www.atem-bewegung.de
X-WR-CALDESC:Veranstaltungen für ILSE ECKERT - ATEM - BEWEGUNG
REFRESH-INTERVAL;VALUE=DURATION:PT1H
X-Robots-Tag:noindex
X-PUBLISHED-TTL:PT1H
BEGIN:VTIMEZONE
TZID:Europe/Berlin
BEGIN:DAYLIGHT
TZOFFSETFROM:+0100
TZOFFSETTO:+0200
TZNAME:CEST
DTSTART:20230326T010000
END:DAYLIGHT
BEGIN:STANDARD
TZOFFSETFROM:+0200
TZOFFSETTO:+0100
TZNAME:CET
DTSTART:20231029T010000
END:STANDARD
END:VTIMEZONE
BEGIN:VEVENT
DTSTART;TZID=Europe/Berlin:20230516T000000
DTEND;TZID=Europe/Berlin:20230520T000000
DTSTAMP:20260420T083711
CREATED:20230426T141022Z
LAST-MODIFIED:20230426T141428Z
UID:877-1684195200-1684540800@www.atem-bewegung.de
SUMMARY:IM ATEM RUHEN\, inmitten von Krise und Wandel
DESCRIPTION:IM ATEM RUHEN\,\ninmitten von Krise und Wandel\nMit einfachen Bewegungen\, ausgeführt im eigenen Atemrhythmus\,\nbegeben wir uns auf eine Reise\, die uns zu einer Ruheinsel in uns selbst bringt.\n\n\n\n6 x Dienstags vom 16.5.2023 – 20.6.2023\nvon 17:30 – 19:00 Uhr\n\n\n\n\nKOSTEN\n60.- €/ pro Person\, ermäßigt 42.- €\n\n\nMITBRINGEN\neine Yoga- oder Isomatte und eine Decke. Bitte bequeme Kleidung tragen.\n\n\nANMELDUNG und Info\nGemeinwesenverein Haselhorst e.V./Treffpunkt Pulvermühle\,Tel.: 030/354 02 889\n\n\nANLEITUNG\nIlse Eckert\, zertifizierte Atemtherapeutin nach Ilse Middendorf\n\n\n\nIch möchte\, dass Sie mit einem Lächeln nach Hause gehen.
URL:https://www.atem-bewegung.de/event/im-atem-ruhen-inmitten-von-krise-und-wandel/
LOCATION:Gemeinwesenverein Haselhorst e.V. / Treffpunkt Pulvermühle\, Romy-Schneider-Str.6\, Berlin\, 13599\, Deutschland
CATEGORIES:Meditation Events
ATTACH;FMTTYPE=image/jpeg:https://www.atem-bewegung.de/wp-content/uploads/2023/04/event.mai2023_sm2.jpg
END:VEVENT
BEGIN:VEVENT
DTSTART;TZID=Europe/Berlin:20230430T110000
DTEND;TZID=Europe/Berlin:20230430T170000
DTSTAMP:20260420T083711
CREATED:20230426T131637Z
LAST-MODIFIED:20230426T135931Z
UID:860-1682852400-1682874000@www.atem-bewegung.de
SUMMARY:WOHLFÜHLTAG - IM ATEM RUHEN
DESCRIPTION:WOHLFÜHLTAG – IM ATEM RUHEN\ninmitten von Krise und Wandel\nIch möchte mit Ihnen einen Tag in Ruhe genießen\, mit dem Atem sich selbst zuwenden und wieder (mehr) Kraft für den Alltag schöpfen.\n\n\n\nSonntag\, 30.4. 2023 von 11.00 -17.00 Uhr\n\n\n\n\nKOSTEN\n50.- €/ pro Person\, ermäßigt 35.- €\n\n\nMITBRINGEN\neine Yoga- oder Isomatte und eine Decke. Bitte bequeme Kleidung tragen.\n\n\nANMELDUNG und Info\nGemeinwesenverein Haselhorst e.V./Treffpunkt Pulvermühle\,Tel.: 030/354 02 889\n\n\nANLEITUNG\nIlse Eckert\, zertifizierte Atemtherapeutin nach Ilse Middendorf\n\n\n\nIch möchte\, dass Sie mit einem Lächeln nach Hause gehen.
URL:https://www.atem-bewegung.de/event/wohlfuehltag-im-atem-ruhen/
LOCATION:Gemeinwesenverein Haselhorst e.V. / Treffpunkt Pulvermühle\, Romy-Schneider-Str.6\, Berlin\, 13599\, Deutschland
ATTACH;FMTTYPE=image/jpeg:https://www.atem-bewegung.de/wp-content/uploads/2023/04/event.mai2023_sm.jpg
END:VEVENT
END:VCALENDAR